BEGIN:VCALENDAR
VERSION:2.0
PRODID:-//TEEX.ORG - ECPv6.15.20//NONSGML v1.0//EN
CALSCALE:GREGORIAN
METHOD:PUBLISH
X-ORIGINAL-URL:https://teex.org
X-WR-CALDESC:Events for TEEX.ORG
REFRESH-INTERVAL;VALUE=DURATION:PT1H
X-Robots-Tag:noindex
X-PUBLISHED-TTL:PT1H
BEGIN:VTIMEZONE
TZID:America/Chicago
BEGIN:DAYLIGHT
TZOFFSETFROM:-0600
TZOFFSETTO:-0500
TZNAME:CDT
DTSTART:20240310T080000
END:DAYLIGHT
BEGIN:STANDARD
TZOFFSETFROM:-0500
TZOFFSETTO:-0600
TZNAME:CST
DTSTART:20241103T070000
END:STANDARD
BEGIN:DAYLIGHT
TZOFFSETFROM:-0600
TZOFFSETTO:-0500
TZNAME:CDT
DTSTART:20250309T080000
END:DAYLIGHT
BEGIN:STANDARD
TZOFFSETFROM:-0500
TZOFFSETTO:-0600
TZNAME:CST
DTSTART:20251102T070000
END:STANDARD
BEGIN:DAYLIGHT
TZOFFSETFROM:-0600
TZOFFSETTO:-0500
TZNAME:CDT
DTSTART:20260308T080000
END:DAYLIGHT
BEGIN:STANDARD
TZOFFSETFROM:-0500
TZOFFSETTO:-0600
TZNAME:CST
DTSTART:20261101T070000
END:STANDARD
END:VTIMEZONE
BEGIN:VEVENT
DTSTART;TZID=America/Chicago:20250905T110000
DTEND;TZID=America/Chicago:20250905T120000
DTSTAMP:20260421T181041
CREATED:20250203T145750Z
LAST-MODIFIED:20250904T195902Z
UID:485608-1757070000-1757073600@teex.org
SUMMARY:EMT Class 101-3 Graduation
DESCRIPTION:The primary focus of the Emergency Medical Technician is to provide basic emergency medical care and transportation for critical and emergent patients who access the emergency medical system. This individual possesses the basic knowledge and skills necessary to provide patient care and transportation. Emergency Medical Technicians function as part of a comprehensive EMS response\, under medical oversight. Emergency Medical Technicians perform interventions with the basic equipment typically found on an ambulance. The Emergency Medical Technician is a link from the scene to the emergency health care system. \n\n\n\nLearn more at teex.org/ems. \n\n\n\nWatch the graduation ceremony live at teex.org/graduation. \n\n\n\nAttend in person at: Brayton Fire Training Field\, Henry D. Smith Building #25\, Room 122 A-D
URL:https://teex.org/event/emt-class-101-3-graduation/
LOCATION:TEEX Brayton Fire Training Field\, 1595 Nuclear Science Road\, College Station\, 77843\, United States
END:VEVENT
END:VCALENDAR